BEGIN:VCALENDAR
VERSION:2.0
PRODID:-//Madrone Art Bar - ECPv4.9.0.3//NONSGML v1.0//EN
CALSCALE:GREGORIAN
METHOD:PUBLISH
X-WR-CALNAME:Madrone Art Bar
X-ORIGINAL-URL:https://madroneartbar.com
X-WR-CALDESC:Events for Madrone Art Bar
BEGIN:VEVENT
DTSTART;TZID=America/Los_Angeles:20260424T190000
DTEND;TZID=America/Los_Angeles:20260424T210000
DTSTAMP:20260423T144128
CREATED:20250820T233442Z
LAST-MODIFIED:20260423T000032Z
UID:13998-1777057200-1777064400@madroneartbar.com
SUMMARY:Max Cowan
DESCRIPTION:Max Cowan takes the piano from the East Bay to New Orleans\, and through every funky congregation in between. As co-leader of funk powerhouse Atta Kid\, keyboardist for funk pioneer Zigaboo Modeliste\, and longtime collaborator with Otis McDonald\, Max’s repertoire tours the B-sides of your soul. 7-9PM \n
URL:https://madroneartbar.com/event/josh-gelfand-25-2025-11-28-2026-04-24/
LOCATION:Madrone Art Bar\, 500 Divisadero Street\, San Francisco\, CA\, 94117\, United States
ATTACH;FMTTYPE=image/png:https://madroneartbar.com/wp-content/uploads/2025/03/Max-Cowan-Square.png
END:VEVENT
END:VCALENDAR