BEGIN:VCALENDAR
VERSION:2.0
PRODID:-//Madrone Art Bar - ECPv4.9.0.3//NONSGML v1.0//EN
CALSCALE:GREGORIAN
METHOD:PUBLISH
X-WR-CALNAME:Madrone Art Bar
X-ORIGINAL-URL:https://madroneartbar.com
X-WR-CALDESC:Events for Madrone Art Bar
BEGIN:VEVENT
DTSTART;VALUE=DATE:20220518
DTEND;VALUE=DATE:20220520
DTSTAMP:20260422T080351
CREATED:20220421T203824Z
LAST-MODIFIED:20220429T220330Z
UID:7319-1652846400-1652932799@madroneartbar.com
SUMMARY:Noah Rosen Quartet
DESCRIPTION:Noah Rosen was trained in classical and jazz\, his sound is melodic and contemporary. Combining jazz\, lo-fi and other genres\, taking listeners to a surreal dream. Noah will be performing with a combo that features Brandon Farmer on drums\, Gerald Williams on bass\, and Andrew Harris on guitar. \n4-piece jazz combo \ndrums: Brandon Farmer\nbass: Gerald Williams\nguitar: Andrew Harris\nsaxophone: Noah Rosen \nMusic at 9:30pm \n  \n
URL:https://madroneartbar.com/event/noah-rosen-quartet/
LOCATION:Madrone Art Bar\, 500 Divisadero Street\, San Francisco\, CA\, 94117\, United States
END:VEVENT
END:VCALENDAR